BEGIN:VCALENDAR
VERSION:2.0
PRODID:-//Will County Democratic Party - ECPv6.15.20//NONSGML v1.0//EN
CALSCALE:GREGORIAN
METHOD:PUBLISH
X-ORIGINAL-URL:https://mail.willcountydemocrats.com
X-WR-CALDESC:Events for Will County Democratic Party
REFRESH-INTERVAL;VALUE=DURATION:PT1H
X-Robots-Tag:noindex
X-PUBLISHED-TTL:PT1H
BEGIN:VTIMEZONE
TZID:America/Chicago
BEGIN:DAYLIGHT
TZOFFSETFROM:-0600
TZOFFSETTO:-0500
TZNAME:CDT
DTSTART:20250309T080000
END:DAYLIGHT
BEGIN:STANDARD
TZOFFSETFROM:-0500
TZOFFSETTO:-0600
TZNAME:CST
DTSTART:20251102T070000
END:STANDARD
BEGIN:DAYLIGHT
TZOFFSETFROM:-0600
TZOFFSETTO:-0500
TZNAME:CDT
DTSTART:20260308T080000
END:DAYLIGHT
BEGIN:STANDARD
TZOFFSETFROM:-0500
TZOFFSETTO:-0600
TZNAME:CST
DTSTART:20261101T070000
END:STANDARD
BEGIN:DAYLIGHT
TZOFFSETFROM:-0600
TZOFFSETTO:-0500
TZNAME:CDT
DTSTART:20270314T080000
END:DAYLIGHT
BEGIN:STANDARD
TZOFFSETFROM:-0500
TZOFFSETTO:-0600
TZNAME:CST
DTSTART:20271107T070000
END:STANDARD
END:VTIMEZONE
BEGIN:VEVENT
DTSTART;TZID=America/Chicago:20261031T093000
DTEND;TZID=America/Chicago:20261031T110000
DTSTAMP:20260420T083829
CREATED:20260112T023747Z
LAST-MODIFIED:20260112T023747Z
UID:4257-1793439000-1793444400@mail.willcountydemocrats.com
SUMMARY:Save the Date: IDWOW General Meeting
DESCRIPTION:
URL:https://mail.willcountydemocrats.com/event/save-the-date-idwow-general-meeting-8/
LOCATION:Il
END:VEVENT
BEGIN:VEVENT
DTSTART;TZID=America/Chicago:20261104T190000
DTEND;TZID=America/Chicago:20261104T200000
DTSTAMP:20260420T083829
CREATED:20251215T013529Z
LAST-MODIFIED:20251215T013529Z
UID:4168-1793818800-1793822400@mail.willcountydemocrats.com
SUMMARY:Plainfield Township Democrats General Meeting
DESCRIPTION:
URL:https://mail.willcountydemocrats.com/event/plainfield-township-democrats-general-meeting-21/
LOCATION:Cemeno’s\, 1630 Essington Road\, Joliet\, IL\, United States
END:VEVENT
BEGIN:VEVENT
DTSTART;TZID=America/Chicago:20261116T180000
DTEND;TZID=America/Chicago:20261116T190000
DTSTAMP:20260420T083829
CREATED:20260329T171159Z
LAST-MODIFIED:20260329T171159Z
UID:4491-1794852000-1794855600@mail.willcountydemocrats.com
SUMMARY:Lockport Township Democrats General Meeting
DESCRIPTION:
URL:https://mail.willcountydemocrats.com/event/lockport-township-democrats-general-meeting-12/
LOCATION:Il
ATTACH;FMTTYPE=image/jpeg:https://mail.willcountydemocrats.com/wp-content/uploads/2026/03/Cover-Photo-Logo.jpg
END:VEVENT
BEGIN:VEVENT
DTSTART;TZID=America/Chicago:20261128T093000
DTEND;TZID=America/Chicago:20261128T110000
DTSTAMP:20260420T083829
CREATED:20260112T023821Z
LAST-MODIFIED:20260112T023821Z
UID:4259-1795858200-1795863600@mail.willcountydemocrats.com
SUMMARY:Save the Date: IDWOW General Meeting
DESCRIPTION:
URL:https://mail.willcountydemocrats.com/event/save-the-date-idwow-general-meeting-9/
LOCATION:Il
END:VEVENT
BEGIN:VEVENT
DTSTART;TZID=America/Chicago:20261202T190000
DTEND;TZID=America/Chicago:20261202T200000
DTSTAMP:20260420T083829
CREATED:20251215T013610Z
LAST-MODIFIED:20251215T013638Z
UID:4170-1796238000-1796241600@mail.willcountydemocrats.com
SUMMARY:Plainfield Township Democrats General Meeting
DESCRIPTION:
URL:https://mail.willcountydemocrats.com/event/plainfield-township-democrats-general-meeting-22/
LOCATION:Cemeno’s\, 1630 Essington Road\, Joliet\, IL\, United States
END:VEVENT
END:VCALENDAR